BEGIN:VCALENDAR
VERSION:2.0
PRODID:-//Minime - ECPv6.6.3//NONSGML v1.0//EN
CALSCALE:GREGORIAN
METHOD:PUBLISH
X-ORIGINAL-URL:https://miminime.es
X-WR-CALDESC:Eventos para Minime
REFRESH-INTERVAL;VALUE=DURATION:PT1H
X-Robots-Tag:noindex
X-PUBLISHED-TTL:PT1H
BEGIN:VTIMEZONE
TZID:Europe/Helsinki
BEGIN:DAYLIGHT
TZOFFSETFROM:+0200
TZOFFSETTO:+0300
TZNAME:EEST
DTSTART:20250330T010000
END:DAYLIGHT
BEGIN:STANDARD
TZOFFSETFROM:+0300
TZOFFSETTO:+0200
TZNAME:EET
DTSTART:20251026T010000
END:STANDARD
END:VTIMEZONE
BEGIN:VEVENT
DTSTART;TZID=Europe/Helsinki:20251213T110000
DTEND;TZID=Europe/Helsinki:20251213T130000
DTSTAMP:20260424T204743
CREATED:20251017T090355Z
LAST-MODIFIED:20251025T152135Z
UID:10811-1765623600-1765630800@miminime.es
SUMMARY:FIESTA DE EXPLORADORES DE CIENCIA
DESCRIPTION:¡Únete a nosotros para una experiencia llena de experimentos y diversión en la Fiesta de Exploradores de la Ciencia! Este evento único te llevará a un viaje a través del mundo de la ciencia\, con actividades interactivas\, demostraciones asombrosas y mucho más.  \nEdad recomendada: Niños de 3 a 8 años.   \n¡No te lo puedes perder! \n¡No olvides traer tu curiosidad y ganas de aprender! \n  \nCitas disponibles en diciembre 13\, 2025Next  FIESTA DE EXPLORADORES DE CIENCIA  11:00 – 13:0018 espacios disponiblesFIESTA DE EXPLORADORES DE CIENCIA11:00 – 13:00Unavailable
URL:https://miminime.es/evento/fiesta-de-exploradores-de-ciencia/
LOCATION:Centro de Ocio Infantil MINIME:\, Calle Montesa 11\, Madrid\, 28006\, Spain
CATEGORIES:Fiestas
ATTACH;FMTTYPE=image/jpeg:https://miminime.es/wp-content/uploads/2024/08/fiesta-de-exploradores-de-ciencia.jpg
ORGANIZER;CN="Minime":MAILTO:minime.madrid@gmail.com
END:VEVENT
BEGIN:VEVENT
DTSTART;TZID=Europe/Helsinki:20251122T190000
DTEND;TZID=Europe/Helsinki:20251122T220000
DTSTAMP:20260424T204744
CREATED:20251018T190219Z
LAST-MODIFIED:20251025T151737Z
UID:10020-1763838000-1763848800@miminime.es
SUMMARY:FIESTA DE PIJAMAS
DESCRIPTION:¡Atención\, pequeños soñadores \n ¡Ven a vivir una noche mágica llena de diversión\, risas y aventuras! \n¿Qué te espera?   \n– Juegos y actividades emocionantes para todos.   \n– Cine nocturno con tus películas favoritas.   \n– Competencia de almohadas y muchas sorpresas más.   \n– Cena deliciosa incluida. \n¡No olvides traer tu pijama más cómodo y tu peluche favorito!  \n Edad recomendada: Niños de 3 a 8 años.   \n¡Será una noche inolvidable llena de diversión y nuevos amigos! ¡No te lo puedes perder!  \n  \nCitas disponibles en noviembre 22\, 2025Next  FIESTA DE PIJAMAS  19:00 – 22:0020 espacios disponiblesFIESTA DE PIJAMAS19:00 – 22:00Unavailable
URL:https://miminime.es/evento/fiesta-de-pijamas-en-minime/
LOCATION:Centro de Ocio Infantil MINIME:\, Calle Montesa 11\, Madrid\, 28006\, Spain
CATEGORIES:Fiestas
ATTACH;FMTTYPE=image/jpeg:https://miminime.es/wp-content/uploads/2024/08/fiesta-de-pijamas-en-minime.jpg
ORGANIZER;CN="Minime":MAILTO:minime.madrid@gmail.com
END:VEVENT
BEGIN:VEVENT
DTSTART;TZID=Europe/Helsinki:20251031T170000
DTEND;TZID=Europe/Helsinki:20251031T200000
DTSTAMP:20260424T204744
CREATED:20251019T072853Z
LAST-MODIFIED:20251025T151714Z
UID:10804-1761930000-1761940800@miminime.es
SUMMARY:FIESTA DE HALLOWEEN
DESCRIPTION:¡Este Halloween no te pierdas la fiesta más terrorífica y divertida! \n¿Qué te espera?   \n– Talleres de manualidades monstruosas \n– Concurso de disfraces \n– Mini disco terrorifica   \n– Juegos y gymkanas \n– Photocall espeluznante \n– Merienda tematica \n Edad recomendada: Niños de 3 a 8 años.   \n¡Será una tarde más divertida y espeluznante del año! ¡No te lo puedes perder!  \n  \nCitas disponibles en octubre 31\, 2025Next  FIESTA DE HALLOWEEN  17:00 – 20:0016 espacios disponiblesFIESTA DE HALLOWEEN17:00 – 20:00Unavailable
URL:https://miminime.es/evento/fiesta-de-halloween/
LOCATION:Centro de Ocio Infantil MINIME:\, Calle Montesa 11\, Madrid\, 28006\, Spain
CATEGORIES:Fiestas
ATTACH;FMTTYPE=image/jpeg:https://miminime.es/wp-content/uploads/2025/10/photo_2025-10-19_09-32-132.jpg
ORGANIZER;CN="Minime":MAILTO:minime.madrid@gmail.com
END:VEVENT
END:VCALENDAR